BEGIN:VCALENDAR
VERSION:2.0
PRODID:-//hacksw/handcal//NONSGML v1.0//EN
BEGIN:VEVENT
UID:ddc3d1506ee6dccae2a418bc389f6ad7onlineregistration.cc
DTSTAMP:20260423T194813Z
DTSTART:20240706T190000.00000000Z
DTEND:20240706T190000.00000000Z
SUMMARY:2024 Rochester Open
DESCRIPTION:2024 Rochester Open organized by Minnesota State Chess Association
END:VEVENT
END:VCALENDAR