BEGIN:VCALENDAR
VERSION:2.0
PRODID:-//hacksw/handcal//NONSGML v1.0//EN
BEGIN:VEVENT
UID:05e538a031770c6b8602f788abca8c64onlineregistration.cc
DTSTAMP:20260423T161714Z
DTSTART:20220513T100000Z
DTEND:20220513T100000Z
SUMMARY:12th Annual Oregon Senior Open
DESCRIPTION:12th Annual Oregon Senior Open organized by Oregon Chess Federation
END:VEVENT
END:VCALENDAR