BEGIN:VCALENDAR
VERSION:2.0
PRODID:-//hacksw/handcal//NONSGML v1.0//EN
BEGIN:VEVENT
UID:07eb76a577738b403b7263362d7f3459onlineregistration.cc
DTSTAMP:20260423T221702Z
DTSTART:20220709T100000Z
DTEND:20220709T100000Z
SUMMARY:2022 Rochester Open
DESCRIPTION:2022 Rochester Open organized by Chess Castle of Minnesota
END:VEVENT
END:VCALENDAR