BEGIN:VCALENDAR
VERSION:2.0
PRODID:-//hacksw/handcal//NONSGML v1.0//EN
BEGIN:VEVENT
UID:ac4ce0356d7c3a542dfdde0be4494cdfonlineregistration.cc
DTSTAMP:20260423T163036Z
DTSTART:20230902T100000Z
DTEND:20230902T100000Z
SUMMARY:73rd Oregon Open
DESCRIPTION:73rd Oregon Open organized by Oregon Chess Federation
END:VEVENT
END:VCALENDAR