BEGIN:VCALENDAR
VERSION:2.0
PRODID:-//hacksw/handcal//NONSGML v1.0//EN
BEGIN:VEVENT
UID:a0d1dd409d1af499953fb23123b5803donlineregistration.cc
DTSTAMP:20260425T201840Z
DTSTART:20250830T120000.00000000Z
DTEND:20250830T120000.00000000Z
SUMMARY:75th Oregon Open
DESCRIPTION:75th Oregon Open organized by Oregon Chess Federation
END:VEVENT
END:VCALENDAR