BEGIN:VCALENDAR
VERSION:2.0
PRODID:-//hacksw/handcal//NONSGML v1.0//EN
BEGIN:VEVENT
UID:b664f0df7b4eccb1ad1b5dc7f87dc933onlineregistration.cc
DTSTAMP:20260425T113840Z
DTSTART:20260516T220000Z
DTEND:20260516T220000Z
SUMMARY:2026 Michigan Amateur
DESCRIPTION:2026 Michigan Amateur organized by Michigan Chess Association
END:VEVENT
END:VCALENDAR