BEGIN:VCALENDAR
VERSION:2.0
PRODID:-//hacksw/handcal//NONSGML v1.0//EN
BEGIN:VEVENT
UID:8bc1f8190eaaf5cb453a73633acb3c11onlineregistration.cc
DTSTAMP:20260421T183359Z
DTSTART:20260425T230000Z
DTEND:20260425T230000Z
SUMMARY:Volusia County Spring Scholastic Tournament 2026
DESCRIPTION:Volusia County Spring Scholastic Tournament 2026 organized by Chess In Schools, FL
END:VEVENT
END:VCALENDAR