BEGIN:VCALENDAR
VERSION:2.0
PRODID:-//hacksw/handcal//NONSGML v1.0//EN
BEGIN:VEVENT
UID:f7a6f5efa388e057ca2869235f6ed172onlineregistration.cc
DTSTAMP:20260424T152406Z
DTSTART:20160624T100000Z
DTEND:20160624T100000Z
SUMMARY:Rochester Open 2016
DESCRIPTION:Rochester Open 2016 organized by Rochester Chess Club
END:VEVENT
END:VCALENDAR