BEGIN:VCALENDAR
VERSION:2.0
PRODID:-//hacksw/handcal//NONSGML v1.0//EN
BEGIN:VEVENT
UID:39ae0bf893f1df08a4d062227befb523onlineregistration.cc
DTSTAMP:20260423T192756Z
DTSTART:20161125T000000Z
DTEND:20161125T000000Z
SUMMARY:Sevan's Scholastic
DESCRIPTION:Sevan's Scholastic organized by Chess Weekend
END:VEVENT
END:VCALENDAR